Package: partCNV Version: 1.4.0 Command: chmod a+r partCNV -R && F:\biocbuild\bbs-3.20-bioc\R\bin\R.exe CMD build --keep-empty-dirs --no-resave-data partCNV StartedAt: 2025-02-03 21:05:42 -0500 (Mon, 03 Feb 2025) EndedAt: 2025-02-03 21:07:51 -0500 (Mon, 03 Feb 2025) EllapsedTime: 129.2 seconds RetCode: 0 Status: OK PackageFile: partCNV_1.4.0.tar.gz PackageFileSize: 4.492 MiB