Package: partCNV Version: 1.4.0 Command: F:\biocbuild\bbs-3.20-bioc\R\bin\R.exe CMD check --no-multiarch --install=check:partCNV.install-out.txt --library=F:\biocbuild\bbs-3.20-bioc\R\library --no-vignettes --timings partCNV_1.4.0.tar.gz StartedAt: 2025-02-04 04:44:38 -0500 (Tue, 04 Feb 2025) EndedAt: 2025-02-04 04:52:07 -0500 (Tue, 04 Feb 2025) EllapsedTime: 449.5 seconds RetCode: 0 Status: OK CheckDir: partCNV.Rcheck Warnings: 0