Package: partCNV Version: 1.4.0 Command: /home/biocbuild/R/R/bin/R CMD build --keep-empty-dirs --no-resave-data partCNV StartedAt: 2025-02-04 01:45:10 -0000 (Tue, 04 Feb 2025) EndedAt: 2025-02-04 01:47:07 -0000 (Tue, 04 Feb 2025) EllapsedTime: 117.1 seconds RetCode: 0 Status: OK PackageFile: partCNV_1.4.0.tar.gz PackageFileSize: 4.556 MiB