Package: partCNV Version: 1.4.0 Command: /home/biocbuild/R/R/bin/R CMD check --install=check:partCNV.install-out.txt --library=/home/biocbuild/R/R/site-library --no-vignettes --timings partCNV_1.4.0.tar.gz StartedAt: 2025-02-04 09:43:06 -0000 (Tue, 04 Feb 2025) EndedAt: 2025-02-04 09:50:47 -0000 (Tue, 04 Feb 2025) EllapsedTime: 461.8 seconds RetCode: 0 Status: OK CheckDir: partCNV.Rcheck Warnings: 0