Package: pathifier Version: 1.44.0 Command: /Library/Frameworks/R.framework/Resources/bin/R CMD check --install=check:pathifier.install-out.txt --library=/Library/Frameworks/R.framework/Resources/library --no-vignettes --timings pathifier_1.44.0.tar.gz StartedAt: 2025-02-05 04:57:59 -0500 (Wed, 05 Feb 2025) EndedAt: 2025-02-05 04:58:47 -0500 (Wed, 05 Feb 2025) EllapsedTime: 48.8 seconds RetCode: 0 Status: OK CheckDir: pathifier.Rcheck Warnings: 0