Package: pathifier Version: 1.44.0 Command: /home/biocbuild/R/R/bin/R CMD check --install=check:pathifier.install-out.txt --library=/home/biocbuild/R/R/site-library --no-vignettes --timings pathifier_1.44.0.tar.gz StartedAt: 2025-02-04 09:43:50 -0000 (Tue, 04 Feb 2025) EndedAt: 2025-02-04 09:44:41 -0000 (Tue, 04 Feb 2025) EllapsedTime: 51.2 seconds RetCode: 0 Status: OK CheckDir: pathifier.Rcheck Warnings: 0