Package: pathlinkR Version: 1.2.0 Command: /Library/Frameworks/R.framework/Resources/bin/R CMD build --keep-empty-dirs --no-resave-data pathlinkR StartedAt: 2025-02-04 05:18:25 -0500 (Tue, 04 Feb 2025) EndedAt: 2025-02-04 05:22:31 -0500 (Tue, 04 Feb 2025) EllapsedTime: 246.0 seconds RetCode: 0 Status: OK PackageFile: pathlinkR_1.2.0.tar.gz PackageFileSize: 4.699 MiB