Package: pathlinkR
Version: 1.2.0
Command: /Library/Frameworks/R.framework/Resources/bin/R CMD INSTALL pathlinkR
StartedAt: 2024-11-08 15:49:53 -0500 (Fri, 08 Nov 2024)
EndedAt: 2024-11-08 15:49:59 -0500 (Fri, 08 Nov 2024)
EllapsedTime: 6.2 seconds
RetCode: 0
Status: OK