Package: pathlinkR Version: 1.2.0 Command: rm -rf pathlinkR.buildbin-libdir && mkdir pathlinkR.buildbin-libdir && /Users/biocbuild/BBS/utils/build-universal.sh pathlinkR_1.2.0.tar.gz /Library/Frameworks/R.framework/Resources/bin/R pathlinkR.buildbin-libdir StartedAt: 2025-02-04 13:44:37 -0500 (Tue, 04 Feb 2025) EndedAt: 2025-02-04 13:45:49 -0500 (Tue, 04 Feb 2025) EllapsedTime: 71.3 seconds RetCode: 0 Status: OK PackageFile: pathlinkR_1.2.0.tgz PackageFileSize: 4.774 MiB