Package: pathlinkR Version: 1.2.0 Command: /Library/Frameworks/R.framework/Resources/bin/R CMD INSTALL pathlinkR StartedAt: 2025-02-03 16:45:52 -0500 (Mon, 03 Feb 2025) EndedAt: 2025-02-03 16:46:27 -0500 (Mon, 03 Feb 2025) EllapsedTime: 35.1 seconds RetCode: 0 Status: OK