Package: pathlinkR Version: 1.2.0 Command: chmod a+r pathlinkR -R && F:\biocbuild\bbs-3.20-bioc\R\bin\R.exe CMD build --keep-empty-dirs --no-resave-data pathlinkR StartedAt: 2025-02-03 21:06:18 -0500 (Mon, 03 Feb 2025) EndedAt: 2025-02-03 21:19:21 -0500 (Mon, 03 Feb 2025) EllapsedTime: 782.5 seconds RetCode: 0 Status: OK PackageFile: pathlinkR_1.2.0.tar.gz PackageFileSize: 3.154 MiB