Package: pathlinkR Version: 1.2.0 Command: /home/biocbuild/R/R/bin/R CMD check --install=check:pathlinkR.install-out.txt --library=/home/biocbuild/R/R/site-library --no-vignettes --timings pathlinkR_1.2.0.tar.gz StartedAt: 2025-02-04 09:43:54 -0000 (Tue, 04 Feb 2025) EndedAt: 2025-02-04 09:50:23 -0000 (Tue, 04 Feb 2025) EllapsedTime: 389.7 seconds RetCode: 0 Status: OK CheckDir: pathlinkR.Rcheck Warnings: 0