Package: pathview Version: 1.46.0 Command: rm -rf pathview.buildbin-libdir && mkdir pathview.buildbin-libdir && /Users/biocbuild/BBS/utils/build-universal.sh pathview_1.46.0.tar.gz /Library/Frameworks/R.framework/Resources/bin/R pathview.buildbin-libdir StartedAt: 2025-02-05 17:05:03 -0500 (Wed, 05 Feb 2025) EndedAt: 2025-02-05 17:05:27 -0500 (Wed, 05 Feb 2025) EllapsedTime: 23.7 seconds RetCode: 0 Status: OK PackageFile: pathview_1.46.0.tgz PackageFileSize: 2.82 MiB