Package: pathview Version: 1.46.0 Command: /home/biocbuild/bbs-3.20-bioc/R/bin/R CMD check --install=check:pathview.install-out.txt --library=/home/biocbuild/bbs-3.20-bioc/R/site-library --timings pathview_1.46.0.tar.gz StartedAt: 2025-02-04 01:05:31 -0500 (Tue, 04 Feb 2025) EndedAt: 2025-02-04 01:09:38 -0500 (Tue, 04 Feb 2025) EllapsedTime: 247.3 seconds RetCode: 0 Status: WARNINGS CheckDir: pathview.Rcheck Warnings: 1