Package: pathview Version: 1.46.0 Command: /home/biocbuild/bbs-3.20-bioc/R/bin/R CMD INSTALL pathview StartedAt: 2025-02-03 15:26:36 -0500 (Mon, 03 Feb 2025) EndedAt: 2025-02-03 15:26:52 -0500 (Mon, 03 Feb 2025) EllapsedTime: 16.0 seconds RetCode: 0 Status: OK