Package: pathview Version: 1.46.0 Command: F:\biocbuild\bbs-3.20-bioc\R\bin\R.exe CMD INSTALL pathview StartedAt: 2025-02-03 16:03:27 -0500 (Mon, 03 Feb 2025) EndedAt: 2025-02-03 16:03:59 -0500 (Mon, 03 Feb 2025) EllapsedTime: 31.5 seconds RetCode: 0 Status: OK