Package: pathwayPCA Version: 1.22.0 Command: /home/biocbuild/R/R/bin/R CMD build --keep-empty-dirs --no-resave-data pathwayPCA StartedAt: 2025-02-04 01:46:02 -0000 (Tue, 04 Feb 2025) EndedAt: 2025-02-04 01:53:31 -0000 (Tue, 04 Feb 2025) EllapsedTime: 448.4 seconds RetCode: 0 Status: OK PackageFile: pathwayPCA_1.22.0.tar.gz PackageFileSize: 2.918 MiB