Package: pcaExplorer Version: 3.0.0 Command: rm -rf pcaExplorer.buildbin-libdir && mkdir pcaExplorer.buildbin-libdir && /Users/biocbuild/BBS/utils/build-universal.sh pcaExplorer_3.0.0.tar.gz /Library/Frameworks/R.framework/Resources/bin/R pcaExplorer.buildbin-libdir StartedAt: 2025-02-05 17:05:17 -0500 (Wed, 05 Feb 2025) EndedAt: 2025-02-05 17:06:28 -0500 (Wed, 05 Feb 2025) EllapsedTime: 71.0 seconds RetCode: 0 Status: OK PackageFile: pcaExplorer_3.0.0.tgz PackageFileSize: 8.377 MiB