Package: pcaExplorer Version: 3.0.0 Command: /Library/Frameworks/R.framework/Resources/bin/R CMD build --keep-empty-dirs --no-resave-data pcaExplorer StartedAt: 2025-02-04 05:20:28 -0500 (Tue, 04 Feb 2025) EndedAt: 2025-02-04 05:23:02 -0500 (Tue, 04 Feb 2025) EllapsedTime: 153.5 seconds RetCode: 0 Status: OK PackageFile: pcaExplorer_3.0.0.tar.gz PackageFileSize: 10.77 MiB