Package: pcaExplorer Version: 3.0.0 Command: /Library/Frameworks/R.framework/Resources/bin/R CMD build --keep-empty-dirs --no-resave-data pcaExplorer StartedAt: 2025-02-03 21:11:45 -0500 (Mon, 03 Feb 2025) EndedAt: 2025-02-03 21:16:46 -0500 (Mon, 03 Feb 2025) EllapsedTime: 300.8 seconds RetCode: 0 Status: OK PackageFile: pcaExplorer_3.0.0.tar.gz PackageFileSize: 10.74 MiB