Package: pcaExplorer Version: 3.0.0 Command: /Library/Frameworks/R.framework/Resources/bin/R CMD check --install=check:pcaExplorer.install-out.txt --library=/Library/Frameworks/R.framework/Resources/library --no-vignettes --timings pcaExplorer_3.0.0.tar.gz StartedAt: 2025-02-04 07:49:12 -0500 (Tue, 04 Feb 2025) EndedAt: 2025-02-04 08:08:36 -0500 (Tue, 04 Feb 2025) EllapsedTime: 1164.7 seconds RetCode: 0 Status: OK CheckDir: pcaExplorer.Rcheck Warnings: 0