Package: pcaExplorer Version: 3.0.0 Command: F:\biocbuild\bbs-3.20-bioc\R\bin\R.exe CMD check --no-multiarch --install=check:pcaExplorer.install-out.txt --library=F:\biocbuild\bbs-3.20-bioc\R\library --no-vignettes --timings pcaExplorer_3.0.0.tar.gz StartedAt: 2025-02-18 04:24:33 -0500 (Tue, 18 Feb 2025) EndedAt: 2025-02-18 04:35:46 -0500 (Tue, 18 Feb 2025) EllapsedTime: 673.1 seconds RetCode: 0 Status: OK CheckDir: pcaExplorer.Rcheck Warnings: 0