Package: pcaExplorer Version: 3.0.0 Command: F:\biocbuild\bbs-3.20-bioc\R\bin\R.exe CMD INSTALL pcaExplorer StartedAt: 2025-02-03 16:41:11 -0500 (Mon, 03 Feb 2025) EndedAt: 2025-02-03 16:42:30 -0500 (Mon, 03 Feb 2025) EllapsedTime: 79.7 seconds RetCode: 0 Status: OK