Package: pcaExplorer Version: 3.0.0 Command: /home/biocbuild/R/R/bin/R CMD build --keep-empty-dirs --no-resave-data pcaExplorer StartedAt: 2025-02-04 01:46:26 -0000 (Tue, 04 Feb 2025) EndedAt: 2025-02-04 01:48:59 -0000 (Tue, 04 Feb 2025) EllapsedTime: 153.1 seconds RetCode: 0 Status: OK PackageFile: pcaExplorer_3.0.0.tar.gz PackageFileSize: 9.717 MiB