Package: pcaExplorer Version: 3.0.0 Command: /home/biocbuild/R/R/bin/R CMD check --install=check:pcaExplorer.install-out.txt --library=/home/biocbuild/R/R/site-library --no-vignettes --timings pcaExplorer_3.0.0.tar.gz StartedAt: 2025-02-04 09:44:41 -0000 (Tue, 04 Feb 2025) EndedAt: 2025-02-04 09:55:31 -0000 (Tue, 04 Feb 2025) EllapsedTime: 649.9 seconds RetCode: 0 Status: OK CheckDir: pcaExplorer.Rcheck Warnings: 0