Package: pcaExplorer
Version: 3.0.0
Command: /home/biocbuild/R/R/bin/R CMD INSTALL pcaExplorer
StartedAt: 2025-02-17 21:09:17 -0000 (Mon, 17 Feb 2025)
EndedAt: 2025-02-17 21:10:24 -0000 (Mon, 17 Feb 2025)
EllapsedTime: 67.2 seconds
RetCode: 0
Status: OK