Package: pcaMethods Version: 1.98.0 Command: /home/biocbuild/R/R/bin/R CMD INSTALL pcaMethods StartedAt: 2024-11-19 20:30:59 -0000 (Tue, 19 Nov 2024) EndedAt: 2024-11-19 20:31:23 -0000 (Tue, 19 Nov 2024) EllapsedTime: 24.3 seconds RetCode: 0 Status: OK