Package: pcaMethods Version: 1.98.0 Command: /Library/Frameworks/R.framework/Resources/bin/R CMD build --keep-empty-dirs --no-resave-data pcaMethods StartedAt: 2025-02-03 21:12:01 -0500 (Mon, 03 Feb 2025) EndedAt: 2025-02-03 21:17:05 -0500 (Mon, 03 Feb 2025) EllapsedTime: 304.5 seconds RetCode: 0 Status: OK PackageFile: pcaMethods_1.98.0.tar.gz PackageFileSize: 1017 KiB