Package: pcaMethods Version: 1.98.0 Command: /Library/Frameworks/R.framework/Resources/bin/R CMD INSTALL pcaMethods StartedAt: 2025-02-03 15:16:36 -0500 (Mon, 03 Feb 2025) EndedAt: 2025-02-03 15:16:57 -0500 (Mon, 03 Feb 2025) EllapsedTime: 20.7 seconds RetCode: 0 Status: OK