Package: pcaMethods Version: 1.98.0 Command: /home/biocbuild/R/R/bin/R CMD build --keep-empty-dirs --no-resave-data pcaMethods StartedAt: 2025-02-04 01:46:35 -0000 (Tue, 04 Feb 2025) EndedAt: 2025-02-04 01:49:17 -0000 (Tue, 04 Feb 2025) EllapsedTime: 161.2 seconds RetCode: 0 Status: OK PackageFile: pcaMethods_1.98.0.tar.gz PackageFileSize: 990.6 KiB