Package: pdInfoBuilder Version: 1.70.0 Command: /Library/Frameworks/R.framework/Resources/bin/R CMD build --keep-empty-dirs --no-resave-data pdInfoBuilder StartedAt: 2025-02-04 05:23:05 -0500 (Tue, 04 Feb 2025) EndedAt: 2025-02-04 05:23:46 -0500 (Tue, 04 Feb 2025) EllapsedTime: 41.0 seconds RetCode: 0 Status: OK PackageFile: pdInfoBuilder_1.70.0.tar.gz PackageFileSize: 348.1 KiB