Package: pdInfoBuilder Version: 1.70.0 Command: /Library/Frameworks/R.framework/Resources/bin/R CMD build --keep-empty-dirs --no-resave-data pdInfoBuilder StartedAt: 2025-02-03 21:12:26 -0500 (Mon, 03 Feb 2025) EndedAt: 2025-02-03 21:13:51 -0500 (Mon, 03 Feb 2025) EllapsedTime: 84.6 seconds RetCode: 0 Status: OK PackageFile: pdInfoBuilder_1.70.0.tar.gz PackageFileSize: 348.1 KiB