Package: pdInfoBuilder
Version: 1.70.0
Command: F:\biocbuild\bbs-3.20-bioc\R\bin\R.exe CMD check --no-multiarch --install=check:pdInfoBuilder.install-out.txt --library=F:\biocbuild\bbs-3.20-bioc\R\library --no-vignettes --timings pdInfoBuilder_1.70.0.tar.gz
StartedAt: 2025-02-18 04:25:56 -0500 (Tue, 18 Feb 2025)
EndedAt: 2025-02-18 04:29:37 -0500 (Tue, 18 Feb 2025)
EllapsedTime: 220.1 seconds
RetCode: 0
Status: OK
CheckDir: pdInfoBuilder.Rcheck
Warnings: 0