##############################################################################
##############################################################################
###
### Running command:
###
###   F:\biocbuild\bbs-3.20-bioc\R\bin\R.exe CMD INSTALL pdInfoBuilder
###
##############################################################################
##############################################################################


* installing to library 'F:/biocbuild/bbs-3.20-bioc/R/library'
* installing *source* package 'pdInfoBuilder' ...
** using staged installation
** libs
using C compiler: 'gcc.exe (GCC) 13.3.0'
gcc  -I"F:/biocbuild/bbs-3.20-bioc/R/include" -DNDEBUG     -I"C:/rtools44/x86_64-w64-mingw32.static.posix/include"     -O2 -Wall  -mfpmath=sse -msse2 -mstackrealign  -c pdInfoBuilder.c -o pdInfoBuilder.o
gcc -shared -s -static-libgcc -o pdInfoBuilder.dll tmp.def pdInfoBuilder.o -LC:/rtools44/x86_64-w64-mingw32.static.posix/lib/x64 -LC:/rtools44/x86_64-w64-mingw32.static.posix/lib -LF:/biocbuild/bbs-3.20-bioc/R/bin/x64 -lR
installing to F:/biocbuild/bbs-3.20-bioc/R/library/00LOCK-pdInfoBuilder/00new/pdInfoBuilder/libs/x64
** R
** inst
** byte-compile and prepare package for lazy loading
No methods found in package 'RSQLite' for request: 'dbGetQuery' when loading 'pdInfoBuilder'
** help
*** installing help indices
** building package indices
** installing vignettes
** testing if installed package can be loaded from temporary location
No methods found in package 'RSQLite' for request: 'dbGetQuery' when loading 'pdInfoBuilder'
** testing if installed package can be loaded from final location
No methods found in package 'RSQLite' for request: 'dbGetQuery' when loading 'pdInfoBuilder'
** testing if installed package keeps a record of temporary installation path
* DONE (pdInfoBuilder)