Package: pdInfoBuilder Version: 1.70.0 Command: F:\biocbuild\bbs-3.20-bioc\R\bin\R.exe CMD INSTALL pdInfoBuilder StartedAt: 2025-02-03 16:28:26 -0500 (Mon, 03 Feb 2025) EndedAt: 2025-02-03 16:29:48 -0500 (Mon, 03 Feb 2025) EllapsedTime: 82.2 seconds RetCode: 0 Status: OK