Package: peakPantheR Version: 1.19.0 Command: rm -rf peakPantheR.buildbin-libdir && mkdir peakPantheR.buildbin-libdir && /Users/biocbuild/BBS/utils/build-universal.sh peakPantheR_1.19.0.tar.gz /Library/Frameworks/R.framework/Resources/bin/R peakPantheR.buildbin-libdir StartedAt: 2024-07-04 05:54:23 -0400 (Thu, 04 Jul 2024) EndedAt: 2024-07-04 05:54:30 -0400 (Thu, 04 Jul 2024) EllapsedTime: 7.1 seconds RetCode: 0 Status: OK PackageFile: peakPantheR_1.19.0.tgz PackageFileSize: 4.335 MiB