Package: peakPantheR
Version: 1.20.0
Command: rm -rf peakPantheR.buildbin-libdir && mkdir peakPantheR.buildbin-libdir && /Users/biocbuild/BBS/utils/build-universal.sh peakPantheR_1.20.0.tar.gz /Library/Frameworks/R.framework/Resources/bin/R peakPantheR.buildbin-libdir
StartedAt: 2025-02-18 12:43:52 -0500 (Tue, 18 Feb 2025)
EndedAt: 2025-02-18 12:44:22 -0500 (Tue, 18 Feb 2025)
EllapsedTime: 29.5 seconds
RetCode: 0
Status: OK
PackageFile: peakPantheR_1.20.0.tgz
PackageFileSize: 4.329 <A href="http://en.wikipedia.org/wiki/MiB" target="_blank">MiB</A>