Package: peakPantheR Version: 1.20.0 Command: /home/biocbuild/bbs-3.20-bioc/R/bin/R CMD check --install=check:peakPantheR.install-out.txt --library=/home/biocbuild/bbs-3.20-bioc/R/site-library --timings peakPantheR_1.20.0.tar.gz StartedAt: 2025-02-04 01:07:31 -0500 (Tue, 04 Feb 2025) EndedAt: 2025-02-04 01:29:35 -0500 (Tue, 04 Feb 2025) EllapsedTime: 1323.4 seconds RetCode: 0 Status: OK CheckDir: peakPantheR.Rcheck Warnings: 0