Package: peakPantheR Version: 1.20.0 Command: chmod a+r peakPantheR -R && F:\biocbuild\bbs-3.20-bioc\R\bin\R.exe CMD build --keep-empty-dirs --no-resave-data peakPantheR StartedAt: 2025-02-03 21:08:07 -0500 (Mon, 03 Feb 2025) EndedAt: 2025-02-03 21:10:41 -0500 (Mon, 03 Feb 2025) EllapsedTime: 154.2 seconds RetCode: 0 Status: OK PackageFile: peakPantheR_1.20.0.tar.gz PackageFileSize: 3.926 MiB