Package: pepStat Version: 1.40.0 Command: rm -rf pepStat.buildbin-libdir && mkdir pepStat.buildbin-libdir && /Users/biocbuild/BBS/utils/build-universal.sh pepStat_1.40.0.tar.gz /Library/Frameworks/R.framework/Resources/bin/R pepStat.buildbin-libdir StartedAt: 2025-02-01 16:10:42 -0500 (Sat, 01 Feb 2025) EndedAt: 2025-02-01 16:11:03 -0500 (Sat, 01 Feb 2025) EllapsedTime: 21.7 seconds RetCode: 0 Status: OK PackageFile: pepStat_1.40.0.tgz PackageFileSize: 734.3 KiB