Package: pepStat Version: 1.40.0 Command: /Library/Frameworks/R.framework/Resources/bin/R CMD build --keep-empty-dirs --no-resave-data pepStat StartedAt: 2025-01-31 05:17:19 -0500 (Fri, 31 Jan 2025) EndedAt: 2025-01-31 05:18:28 -0500 (Fri, 31 Jan 2025) EllapsedTime: 68.8 seconds RetCode: 0 Status: OK PackageFile: pepStat_1.40.0.tar.gz PackageFileSize: 319.6 KiB