Package: pepStat Version: 1.40.0 Command: /Library/Frameworks/R.framework/Resources/bin/R CMD check --install=check:pepStat.install-out.txt --library=/Library/Frameworks/R.framework/Resources/library --no-vignettes --timings pepStat_1.40.0.tar.gz StartedAt: 2025-02-01 04:26:54 -0500 (Sat, 01 Feb 2025) EndedAt: 2025-02-01 04:29:20 -0500 (Sat, 01 Feb 2025) EllapsedTime: 146.5 seconds RetCode: 0 Status: OK CheckDir: pepStat.Rcheck Warnings: 0