Package: pepStat Version: 1.40.0 Command: /Library/Frameworks/R.framework/Resources/bin/R CMD INSTALL pepStat StartedAt: 2025-01-30 15:36:25 -0500 (Thu, 30 Jan 2025) EndedAt: 2025-01-30 15:36:45 -0500 (Thu, 30 Jan 2025) EllapsedTime: 19.6 seconds RetCode: 0 Status: OK