Package: pepStat Version: 1.40.0 Command: /home/biocbuild/bbs-3.20-bioc/R/bin/R CMD build --keep-empty-dirs --no-resave-data --md5 pepStat StartedAt: 2025-02-03 18:42:40 -0500 (Mon, 03 Feb 2025) EndedAt: 2025-02-03 18:43:33 -0500 (Mon, 03 Feb 2025) EllapsedTime: 53.1 seconds RetCode: 0 Status: OK PackageFile: pepStat_1.40.0.tar.gz PackageFileSize: 321.4 KiB