Package: pepStat
Version: 1.40.0
Command: chmod a+r pepStat -R && F:\biocbuild\bbs-3.20-bioc\R\bin\R.exe CMD build --keep-empty-dirs --no-resave-data pepStat
StartedAt: 2025-02-13 20:48:30 -0500 (Thu, 13 Feb 2025)
EndedAt: 2025-02-13 20:49:34 -0500 (Thu, 13 Feb 2025)
EllapsedTime: 63.6 seconds
RetCode: 0
Status: OK
PackageFile: pepStat_1.40.0.tar.gz
PackageFileSize: 297.3 <A href="http://en.wikipedia.org/wiki/KiB" target="_blank">KiB</A>