Package: pepStat Version: 1.40.0 Command: /home/biocbuild/R/R/bin/R CMD build --keep-empty-dirs --no-resave-data pepStat StartedAt: 2025-02-04 01:48:59 -0000 (Tue, 04 Feb 2025) EndedAt: 2025-02-04 01:50:07 -0000 (Tue, 04 Feb 2025) EllapsedTime: 67.1 seconds RetCode: 0 Status: OK PackageFile: pepStat_1.40.0.tar.gz PackageFileSize: 313.9 KiB