Package: pepXMLTab Version: 1.40.0 Command: rm -rf pepXMLTab.buildbin-libdir && mkdir pepXMLTab.buildbin-libdir && F:\biocbuild\bbs-3.20-bioc\R\bin\R.exe CMD INSTALL --build --library=pepXMLTab.buildbin-libdir pepXMLTab_1.40.0.tar.gz StartedAt: 2025-02-04 09:09:50 -0500 (Tue, 04 Feb 2025) EndedAt: 2025-02-04 09:09:56 -0500 (Tue, 04 Feb 2025) EllapsedTime: 5.1 seconds RetCode: 0 Status: OK PackageFile: pepXMLTab_1.40.0.zip PackageFileSize: 203.9 KiB