Package: pepXMLTab Version: 1.40.0 Command: /home/biocbuild/R/R/bin/R CMD INSTALL pepXMLTab StartedAt: 2025-02-03 20:25:39 -0000 (Mon, 03 Feb 2025) EndedAt: 2025-02-03 20:25:52 -0000 (Mon, 03 Feb 2025) EllapsedTime: 12.7 seconds RetCode: 0 Status: OK