Package: periodicDNA Version: 1.16.0 Command: rm -rf periodicDNA.buildbin-libdir && mkdir periodicDNA.buildbin-libdir && /Users/biocbuild/BBS/utils/build-universal.sh periodicDNA_1.16.0.tar.gz /Library/Frameworks/R.framework/Resources/bin/R periodicDNA.buildbin-libdir StartedAt: 2025-02-05 17:06:28 -0500 (Wed, 05 Feb 2025) EndedAt: 2025-02-05 17:07:14 -0500 (Wed, 05 Feb 2025) EllapsedTime: 46.5 seconds RetCode: 0 Status: OK PackageFile: periodicDNA_1.16.0.tgz PackageFileSize: 3.057 MiB