Package: periodicDNA Version: 1.16.0 Command: /Library/Frameworks/R.framework/Resources/bin/R CMD build --keep-empty-dirs --no-resave-data periodicDNA StartedAt: 2025-02-04 05:25:48 -0500 (Tue, 04 Feb 2025) EndedAt: 2025-02-04 05:27:39 -0500 (Tue, 04 Feb 2025) EllapsedTime: 110.3 seconds RetCode: 0 Status: OK PackageFile: periodicDNA_1.16.0.tar.gz PackageFileSize: 2.962 MiB